BEGIN:VCALENDAR
VERSION:2.0
PRODID:-//ChamberMaster//Event Calendar 2.0//EN
METHOD:PUBLISH
X-PUBLISHED-TTL:P3D
REFRESH-INTERVAL:P3D
CALSCALE:GREGORIAN
BEGIN:VEVENT
DTSTART:20120206T163000Z
DTEND:20120206T173000Z
X-MICROSOFT-CDO-ALLDAYEVENT:FALSE
SUMMARY:Budget Bootcamp - February Session
DESCRIPTION:Do You Want to Prosper in 2012?\n\n\n\nThen do what successful business do: make a plan!\n\n\n\nIt's time to start looking at your budget in a whole different light. Your budget is one of the most powerful tools in your financial toolbox. It is a great financial partner\, one you can rely on to tell you the truth and to provide guidance based on reality and on practicality.\n\n\n\nLet me put you in a position to make better business decisions\, starting with your cash flow plan.\n\n\n\nOver the course of one month\, doing small bites each week with individual attention\, you can complete your plan for 2012 and learn how to use it as a crystal ball for your future.\n\n\n\nNearly 93% of small business owners (and individuals) do not have an up to date budget. Put yourself in the top 7% and get that 2012 budget done!\n\n\n\nAs a special bonus\, during the first quarter of 2012\, I will give you the opportunity to earn up to $75 back from your registration simply by completing your budget and maintaining it for two months. Now isn't that a nice way to start off your year?\n\n\n\nSo join me for Budget Bootcamp in January\, February or March and let's get you moving towards the top 7%!\n\n\n\nVisit www.BeyondTheBudget.com for more into and to register.\n\n\n\nNote: This webinar series sells out fast in the first quarter\, so register early!
X-ALT-DESC;FMTTYPE=text/html:<strong>Do You Want to Prosper in 2012?</strong><br />\n<br />\nThen do what successful business do: <em><u>make a plan!</u></em><br />\n<br />\nIt&rsquo\;s time to start looking at your budget in a whole different light. Your budget is one of the most powerful tools in your financial toolbox. It is a great financial partner\, one you can rely on to tell you the truth and to provide guidance based on reality and on practicality.<br />\n<br />\nLet me put you in a position to make better business decisions\, starting with your cash flow plan.<br />\n<br />\nOver the course of one month\, doing small bites each week with individual attention\, you can complete your plan for 2012 and learn how to use it as a crystal ball for your future.<br />\n<br />\nNearly 93% of small business owners (and individuals) do not have an up to date budget. Put yourself in the top 7% and get that 2012 budget done!<br />\n<br />\nAs a special bonus\, during the first quarter of 2012\, I will give you the opportunity to earn up to $75 back from your registration simply by completing your budget and maintaining it for two months. Now isn&rsquo\;t that a nice way to start off your year?<br />\n<br />\nSo join me for Budget Bootcamp in January\, February or March and let&rsquo\;s get you moving towards the top 7%!<br />\n<br />\nVisit <strong>www.BeyondTheBudget.com</strong> for more into and to register.<br />\n<br />\n<em><strong>Note: This webinar series sells out fast in the first quarter\, so register early!</strong></em>
LOCATION:Online-4 session webinar series
UID:e.1128.145
SEQUENCE:3
DTSTAMP:20260425T184344Z
URL:http://dev.chamber.scwcc.com/events/details/budget-bootcamp-february-session-02-06-2012-145
END:VEVENT

END:VCALENDAR
