BEGIN:VCALENDAR
VERSION:2.0
PRODID:-//ChamberMaster//Event Calendar 2.0//EN
METHOD:PUBLISH
X-PUBLISHED-TTL:P3D
REFRESH-INTERVAL:P3D
CALSCALE:GREGORIAN
BEGIN:VEVENT
DTSTART:20110916T150000Z
DTEND:20110916T173000Z
X-MICROSOFT-CDO-ALLDAYEVENT:FALSE
SUMMARY:Build A World-Class Brand on a Small Business Budget
DESCRIPTION:Friday\, September 16\, 2011 9:00 AM to 11:30 AM\n\nEVERY business has a brand\, good\, bad or indifferent. Once defined and fully understood\, you can begin capitalizing on it to create and build your unique competitive advantage. LEARN  ** The SECRETS of how your customers REALLY make buying decisions. ** Why the first 7 seconds of contact with your customers is integral to their buying decision and loyalty to you. ** Why your employee team holds the secrets to your brand success! ** How to enhance your brand's overall customer experience without spending one dollar in marketing! ** How do they do it? Follow best in class with these intriguing case study examples. Sign up now for this fun\, experiential workshop to ignite your brand into WORLD-CLASS status. Register to win a FREE copy of The 6 Myths of Branding e-book/workbook. The Brand Ascension Group is a multi-faceted experiential consulting\, training firm who partners with visionary organizations that are committed to consciously build the perceptions of their brand through their people\, customers and prospects. With our innovative methods we educate and inspire our clients to define\, create\, and build consistent\, relevant\, and distinctive brand experiences from the INSIDE OUT. You can register by calling (719) 255-3844\, or by clicking on the link below:\n\nSpeaker: Suzanne Tulien\, co-founder of the Brand Ascension Group
X-ALT-DESC;FMTTYPE=text/html:Friday\, September 16\, 2011 9:00 AM to 11:30 AM<br />\nEVERY business has a brand\, good\, bad or indifferent. Once defined and fully understood\, you can begin capitalizing on it to create and build your unique competitive advantage. LEARN&hellip\; ** The SECRETS of how your customers REALLY make buying decisions. ** Why the first 7 seconds of contact with your customers is integral to their buying decision and loyalty to you. ** Why your employee team holds the secrets to your brand success! ** How to enhance your brand&rsquo\;s overall customer experience without spending one dollar in marketing! ** How do they do it? Follow best in class with these intriguing case study examples. Sign up now for this fun\, experiential workshop to ignite your brand into WORLD-CLASS status. Register to win a FREE copy of The 6 Myths of Branding e-book/workbook. The Brand Ascension Group is a multi-faceted experiential consulting\, training firm who partners with visionary organizations that are committed to consciously build the perceptions of their brand through their people\, customers and prospects. With our innovative methods we educate and inspire our clients to define\, create\, and build consistent\, relevant\, and distinctive brand experiences from the INSIDE OUT. You can register by calling (719) 255-3844\, or by clicking on the link below:<br />\nSpeaker: Suzanne Tulien\, co-founder of the Brand Ascension Group<br />\n
LOCATION:SBDC Training Room at UCCS Campus
UID:e.1128.137
SEQUENCE:3
DTSTAMP:20260425T104225Z
URL:http://dev.chamber.scwcc.com/events/details/build-a-world-class-brand-on-a-small-business-budget-09-16-2011-137
END:VEVENT

END:VCALENDAR
