BEGIN:VCALENDAR
VERSION:2.0
PRODID:-//ChamberMaster//Event Calendar 2.0//EN
METHOD:PUBLISH
X-PUBLISHED-TTL:P3D
REFRESH-INTERVAL:P3D
CALSCALE:GREGORIAN
BEGIN:VEVENT
DTSTART:20120607T173000Z
DTEND:20120607T190000Z
X-MICROSOFT-CDO-ALLDAYEVENT:FALSE
SUMMARY:"Business Interruption Protection" from Duraclean Master Cleaners
DESCRIPTION:Robin McPeek\, of Duraclean Master Cleaners\, will be speaking at the Woodland Park Lunch and Learn\, June 7th\, from 11:30-1:00\, on "Business Interruption Protection". This topic includes assessing risks that may affect your business and how to plan and mitigate them before they strike. We will cover data protection\, people and structures\, and products and services.\n\n\n\nCost for non-members is $25 and lunch is included. Email sgriswold@gwpcc.biz to register.
X-ALT-DESC;FMTTYPE=text/html:Robin McPeek\, of Duraclean Master Cleaners\, will be speaking at the Woodland Park Lunch and Learn\, June 7th\, from 11:30-1:00\, on &quot\;Business Interruption Protection&quot\;. This topic includes assessing risks that may affect your business and how to plan and mitigate them before they strike. We will cover data protection\, people and structures\, and products and services.<br />\n<br />\nCost for non-members is $25 and lunch is included. Email <a href="mailto:sgriswold@gwpcc.biz">sgriswold@gwpcc.biz</a> to register.
LOCATION:Ute Pass Cultural Center\, 210 E. Midland Avenue\, Woodland Park
UID:e.1128.448
SEQUENCE:3
DTSTAMP:20260426T003727Z
URL:http://dev.chamber.scwcc.com/events/details/business-interruption-protection-from-duraclean-master-cleaners-06-07-2012-448
END:VEVENT

END:VCALENDAR
