BEGIN:VCALENDAR
VERSION:2.0
PRODID:-//ChamberMaster//Event Calendar 2.0//EN
METHOD:PUBLISH
X-PUBLISHED-TTL:P3D
REFRESH-INTERVAL:P3D
CALSCALE:GREGORIAN
BEGIN:VEVENT
DTSTART;VALUE=DATE:20120502
DTEND;VALUE=DATE:20120503
TRANSP:TRANSPARENT
X-MICROSOFT-CDO-ALLDAYEVENT:TRUE
SUMMARY:Chili Cook-off and CE Credit Day
DESCRIPTION:Duraclean Master Cleaners is hosting a CE Credit Day for Realtors and Insurance Agents. All classes are free. Check our website for actual classes and times. WWW.DuracleanMC.com.\n\n\n\nWe are also having a chili cook-off for lunch. Duraclean employees will showcase their best recipes and lunch guests will be the judges. Come be a judge! All are welcome and cost is free! Great food\, networking and fun are scheduled. Call 719-473-2703 to RSVP for classes or lunch\, or both.
X-ALT-DESC;FMTTYPE=text/html:Duraclean Master Cleaners is hosting a CE Credit Day for Realtors and Insurance Agents. All classes are free. Check our website for actual classes and times. <a href="http://www.DuracleanMC.com">WWW.DuracleanMC.com</a>.<br />\n<br />\nWe are also having a chili cook-off for lunch. Duraclean employees will showcase their best recipes and lunch guests will be the judges. Come be a judge! All are welcome and cost is free! Great food\, networking and fun are scheduled. Call 719-473-2703 to RSVP for classes or lunch\, or both. 
LOCATION:3615 E. Platte Ave. 80909
UID:e.1128.447
SEQUENCE:3
DTSTAMP:20260425T232044Z
URL:http://dev.chamber.scwcc.com/events/details/chili-cook-off-and-ce-credit-day-05-02-2012-447
END:VEVENT

END:VCALENDAR
