BEGIN:VCALENDAR
VERSION:2.0
PRODID:-//ChamberMaster//Event Calendar 2.0//EN
METHOD:PUBLISH
X-PUBLISHED-TTL:P3D
REFRESH-INTERVAL:P3D
CALSCALE:GREGORIAN
BEGIN:VEVENT
DTSTART:20110916T010000Z
DTEND:20110916T023000Z
X-MICROSOFT-CDO-ALLDAYEVENT:FALSE
SUMMARY:Clearing Yourself for More Success
DESCRIPTION:If you are ready to energize yourself for the new season\, you will want to attend Janet Marletto's exciting class on  "Clearing Yourself for More Success" on September 15. You will have guided practice in meditation and visualization plus more proven techniques to clear away barriers to success. Janet has gathered the most effective means for YOU!  She promises that you will come away refreshed\, energized and ready to continue on your own!\n\nBe energizxed! Be there!\n\n\n\n\n\nSpace is limited.  RSVP by 6Pm on 9/8 to avoid disappointment. Special fee for SCWCC members" $20 (cash or check). Non-members: $25/pp  Directions to  location ( World Arena area) upon confirmation.\n\n\n\nCan't make it on this date? Call Janet for options.
X-ALT-DESC;FMTTYPE=text/html:If you are ready to energize yourself for the new season\, you will want to attend Janet Marletto&#39\;s exciting class on&nbsp\; &quot\;Clearing Yourself for More Success&quot\; on September 15. You will have guided practice in meditation and visualization plus more proven techniques to clear away barriers to success. Janet has gathered the most effective means for YOU!&nbsp\; She promises that you will come away refreshed\, energized and ready to continue on your own!<br />\nBe energizxed! Be there!<br />\n<br />\n<br />\nSpace is limited.&nbsp\; RSVP by 6Pm on 9/8 to avoid disappointment. Special fee for SCWCC members&quot\; $20 (cash or check). Non-members: $25/pp&nbsp\; Directions to&nbsp\; location ( World Arena area) upon confirmation.<br />\n<br />\nCan&#39\;t make it on this date? Call Janet for options.
LOCATION:World Arena area ( exit 138 west)\; directions at time of reservation confirmation . Space and class size limited to ensure total success!
UID:e.1128.136
SEQUENCE:3
DTSTAMP:20260425T104103Z
URL:http://dev.chamber.scwcc.com/events/details/clearing-yourself-for-more-success-09-15-2011-136
END:VEVENT

END:VCALENDAR
