BEGIN:VCALENDAR
VERSION:2.0
PRODID:-//ChamberMaster//Event Calendar 2.0//EN
METHOD:PUBLISH
X-PUBLISHED-TTL:P3D
REFRESH-INTERVAL:P3D
CALSCALE:GREGORIAN
BEGIN:VEVENT
DTSTART:20120512T190000Z
DTEND:20120512T230000Z
X-MICROSOFT-CDO-ALLDAYEVENT:FALSE
SUMMARY:CPL Spring into Well-Being Open House
DESCRIPTION:Our CPL Partners will be giving presentations throughout the day\n\n\n	\n		1:30 Follow Your Passion (McKenzie Haglund)\n	\n		2:00 Wisdom of the 4 Elements (Tascha Yoder)\n	\n		2:30 Change Starts with You Now (Sigolene McCarthy)\n	\n		3:30 Energy Tips for Balancing the Rhythm of Spring (Verena Vomastic)\n	\n		4:15 Reducing Negative Stress in 7 Days (Kim Armes)\n\n\n\n*Door Prizes*\n\n*Refreshments*\n\n*Display tables presented by CPL Members*\n\n*Free energy screenings (Verena Vomastic)*\n\n*Create your own handmade Mother's Day card (Debbie Walker)*\n\n\n\nSign up for free sessions with our Partners!\n\nCPL Partners are offering complimentary sessions during the week following the open house. Space is limited and only for Open House attendees.
X-ALT-DESC;FMTTYPE=text/html:<strong>Our CPL Partners will be giving presentations throughout the day</strong><br />\n<ul>\n	<li>\n		1:30 Follow Your Passion (McKenzie Haglund)</li>\n	<li>\n		2:00 Wisdom of the 4 Elements (Tascha Yoder)</li>\n	<li>\n		2:30 Change Starts with You Now (Sigolene McCarthy)</li>\n	<li>\n		3:30 Energy Tips for Balancing the Rhythm of Spring (Verena Vomastic)</li>\n	<li>\n		4:15 Reducing Negative Stress in 7 Days (Kim Armes)</li>\n</ul>\n<br />\n*Door Prizes*<br />\n*Refreshments*<br />\n*Display tables presented by CPL Members*<br />\n*Free energy screenings (Verena Vomastic)*<br />\n*Create your own handmade Mother&rsquo\;s Day card (Debbie Walker)*<br />\n<br />\n<strong>Sign up for free sessions with our Partners!</strong><br />\nCPL Partners are offering complimentary sessions during the week following the open house. Space is limited and only for Open House attendees.
LOCATION:Center for Powerful Living 635 Southpointe CT Colorado Springs\, CO 80906
UID:e.1128.460
SEQUENCE:3
DTSTAMP:20260425T231709Z
URL:http://dev.chamber.scwcc.com/events/details/cpl-spring-into-well-being-open-house-05-12-2012-460
END:VEVENT

END:VCALENDAR
