BEGIN:VCALENDAR
VERSION:2.0
PRODID:-//ChamberMaster//Event Calendar 2.0//EN
METHOD:PUBLISH
X-PUBLISHED-TTL:P3D
REFRESH-INTERVAL:P3D
CALSCALE:GREGORIAN
BEGIN:VEVENT
DTSTART:20111112T160000Z
DTEND:20111112T173000Z
X-MICROSOFT-CDO-ALLDAYEVENT:FALSE
SUMMARY:Event at Kennedy Baxter\, Lynn
DESCRIPTION:Offering a short\, free workshop on EFT\, Emotional Freedom Technique. Learn EFT and how to use it to reduce stress and install more positivity. Limited seating. RSVP
X-ALT-DESC;FMTTYPE=text/html:Offering a short\, free workshop on EFT\, Emotional Freedom Technique. Learn EFT and how to use it to reduce stress and install more positivity. Limited seating. RSVP
LOCATION:2790 N. Academy Blvd.\, Suite 206\, Colorado Springs\, CO 80917
UID:e.1128.142
SEQUENCE:3
DTSTAMP:20260425T140702Z
URL:http://dev.chamber.scwcc.com/events/details/event-at-kennedy-baxter-lynn-11-12-2011-142
END:VEVENT

END:VCALENDAR
