BEGIN:VCALENDAR
VERSION:2.0
PRODID:-//ChamberMaster//Event Calendar 2.0//EN
METHOD:PUBLISH
X-PUBLISHED-TTL:P3D
REFRESH-INTERVAL:P3D
CALSCALE:GREGORIAN
BEGIN:VEVENT
DTSTART:20120414T200000Z
DTEND:20120414T220000Z
X-MICROSOFT-CDO-ALLDAYEVENT:FALSE
SUMMARY:Event at NL Moore Creative
DESCRIPTION:Anti-aging Makeovers with Good-for-Your-Skin Cosmetic Choices\n\n(Find out what's in the lotions and potions you put on your face\; learn how to make better choices for healthier skin for life AND select a free sample!)
X-ALT-DESC;FMTTYPE=text/html:Anti-aging Makeovers with Good-for-Your-Skin Cosmetic Choices<br />\n(Find out what&#39\;s in the lotions and potions you put on your face\; learn how to make better choices for healthier skin for life AND select a free sample!)
LOCATION:521 Clearview Drive Fountain\, CO 80817
UID:e.1128.452
SEQUENCE:3
DTSTAMP:20260425T214031Z
URL:http://dev.chamber.scwcc.com/events/details/event-at-nl-moore-creative-04-14-2012-452
END:VEVENT

END:VCALENDAR
