BEGIN:VCALENDAR
VERSION:2.0
PRODID:-//ChamberMaster//Event Calendar 2.0//EN
METHOD:PUBLISH
X-PUBLISHED-TTL:P3D
REFRESH-INTERVAL:P3D
CALSCALE:GREGORIAN
BEGIN:VEVENT
DTSTART:20120415T000000Z
DTEND:20120415T020000Z
X-MICROSOFT-CDO-ALLDAYEVENT:FALSE
SUMMARY:Event at NL Moore Creative
DESCRIPTION:Ultimate Nighttime Care for Your Skin\n\n(Try this 3-step facial to get spa-quality results at a fraction of the cost plus learn why going to bed with a clean face changes your skin. Come in your PJs and leave ready for bed!)
X-ALT-DESC;FMTTYPE=text/html:Ultimate Nighttime Care for Your Skin<br />\n(Try this 3-step facial to get spa-quality results at a fraction of the cost plus learn why going to bed with a clean face changes your skin. Come in your PJs and leave ready for bed!)
LOCATION:521 Clearview Drive Fountain\, CO 80817
UID:e.1128.453
SEQUENCE:3
DTSTAMP:20260425T214014Z
URL:http://dev.chamber.scwcc.com/events/details/event-at-nl-moore-creative-04-14-2012-453
END:VEVENT

END:VCALENDAR
