BEGIN:VCALENDAR
VERSION:2.0
PRODID:-//ChamberMaster//Event Calendar 2.0//EN
METHOD:PUBLISH
X-PUBLISHED-TTL:P3D
REFRESH-INTERVAL:P3D
CALSCALE:GREGORIAN
BEGIN:VEVENT
DTSTART:20120421T160000Z
DTEND:20120421T180000Z
X-MICROSOFT-CDO-ALLDAYEVENT:FALSE
SUMMARY:Event at NL Moore Creative
DESCRIPTION:Healthy Tastes and Nutritional Makeover Plans\n\n(Sample healthy protein shakes\, energy drink alternatives\, protein bars\, herbal tea and more\; learn why we need to detox\; and leave with healthy recipe packet!)
X-ALT-DESC;FMTTYPE=text/html:Healthy Tastes and Nutritional Makeover Plans<br />\n(Sample healthy protein shakes\, energy drink alternatives\, protein bars\, herbal tea and more\; learn why we need to detox\; and leave with healthy recipe packet!)
LOCATION:521 Clearview Drive Fountain\, CO 80817
UID:e.1128.454
SEQUENCE:3
DTSTAMP:20260425T214030Z
URL:http://dev.chamber.scwcc.com/events/details/event-at-nl-moore-creative-04-21-2012-454
END:VEVENT

END:VCALENDAR
