BEGIN:VCALENDAR
VERSION:2.0
PRODID:-//ChamberMaster//Event Calendar 2.0//EN
METHOD:PUBLISH
X-PUBLISHED-TTL:P3D
REFRESH-INTERVAL:P3D
CALSCALE:GREGORIAN
BEGIN:VEVENT
DTSTART:20120616T153000Z
DTEND:20120616T223000Z
X-MICROSOFT-CDO-ALLDAYEVENT:FALSE
SUMMARY:Right-Brain Business Plan® Workshop
DESCRIPTION:This one day workshop is a fun program specifically designed to lead Right Brainers and Creatives toward higher levels of success by presenting essential business skills and information in a right brain fashion.\n\n\n\nWe'll spend the day doing what you do best... having fun! And while we're having fun\, you'll be creating a VISUAL business plan that you can use anytime and anywhere.\n\n\n\nIn the morning\, we'll focus on capturing your vision. In the afternoon we'll create an accordian book with your actual business plan laid out visually. We're not talking spreadsheets and dry operational plans here\, we're talking "Managing The Moola" and "Smooth Sailing Systems" all in wonderful living color!\n\n\n\nMark your calendars!  This workshop is on Saturday\, June 16th 9:30-4:30.\n\n\n\nPLUS I like to reward people for taking action:  Save $60 for registering by May 15th!\n\n\n\nJoin me\, this is going to be fun!
X-ALT-DESC;FMTTYPE=text/html:This one day workshop is a fun program specifically designed to lead Right Brainers and Creatives toward higher levels of success by presenting essential business skills and information in a right brain fashion.<br />\n<br />\nWe&#39\;ll spend the day doing what you do best... having fun! And while we&#39\;re having fun\, you&#39\;ll be creating a VISUAL business plan that you can use anytime and anywhere.<br />\n<br />\nIn the morning\, we&#39\;ll focus on capturing your vision. In the afternoon we&#39\;ll create an accordian book with your actual business plan laid out visually. We&#39\;re not talking spreadsheets and dry operational plans here\, we&#39\;re talking &quot\;Managing The Moola&quot\; and &quot\;Smooth Sailing Systems&quot\; all in wonderful living color!<br />\n<br />\nMark your calendars!&nbsp\; This workshop is on Saturday\, June 16th 9:30-4:30.<br />\n<br />\nPLUS I like to reward people for taking action:&nbsp\; <strong>Save $60 for registering by May 15th!</strong><br />\n<br />\nJoin me\, this is going to be fun!
LOCATION:Center for Powerful Living
UID:e.1128.485
SEQUENCE:3
DTSTAMP:20260426T003604Z
URL:http://dev.chamber.scwcc.com/events/details/right-brain-business-plan-workshop-06-16-2012-485
END:VEVENT

END:VCALENDAR
