BEGIN:VCALENDAR
VERSION:2.0
PRODID:-//ChamberMaster//Event Calendar 2.0//EN
METHOD:PUBLISH
X-PUBLISHED-TTL:P3D
REFRESH-INTERVAL:P3D
CALSCALE:GREGORIAN
BEGIN:VEVENT
DTSTART:20120522T170000Z
DTEND:20120522T190000Z
X-MICROSOFT-CDO-ALLDAYEVENT:FALSE
SUMMARY:Salad Session: Stop Resisting your Success
DESCRIPTION:NO TIME TO ... Exercise ... Eat right ... Relax .... Enjoy your life ... ? You can fix all that - and more - when you find out how to identify your roadblocks and overcome the resistance that keeps you from becoming your strongest and best self.\n\n\n\nWe'll provide the salad & soft drinks\, if you'll take a long lunchbreak to learn how to gain strength in body and mind\, with simple tricks that anyone can fit into their daily routine.\n\n\n\nCertified professionals in their fields\, Angela Gaffney (Essential Health & Wellness) and Wanda McCormick (Power by Choice) will help you understand what keeps you from doing what you know you should ... and how to release resistance.\n\n\n\nWhen you do\, you'll be better prepared to do everything - from the simplest day-to-day tasks - to running your multi-million dollar company. The only thing holding you back IS you - so stop resisting your success\, and register today!\n\n\n\nIn this low-cost\, mini-workshop\, you'll learn simple tricks to make exercise\, nutrition and self-care easy - no matter how hectic your schedule!
X-ALT-DESC;FMTTYPE=text/html:<strong>NO TIME TO ... Exercise ... Eat right ... Relax .... Enjoy your life ... ?</strong> You can fix all that - and more - when you find out how to identify your roadblocks and overcome the resistance that keeps you from becoming your strongest and best self.<br />\n<br />\nWe&rsquo\;ll provide the salad &amp\; soft drinks\, if you&rsquo\;ll take a long lunchbreak to learn how to gain strength in body and mind\, with simple tricks that anyone can fit into their daily routine.<br />\n<br />\nCertified professionals in their fields\, Angela Gaffney (Essential Health &amp\; Wellness) and Wanda McCormick (Power by Choice) will help you understand what keeps you from doing what you know you should ... and how to release resistance.<br />\n<br />\nWhen you do\, you&rsquo\;ll be better prepared to do everything - from the simplest day-to-day tasks - to running your multi-million dollar company. The only thing holding you back IS you - so stop resisting your success\, and register today!<br />\n<br />\nIn this low-cost\, mini-workshop\, you&rsquo\;ll learn simple tricks to make exercise\, nutrition and self-care easy - no matter how hectic your schedule!
LOCATION:Harvey House University of the Rockies
UID:e.1128.480
SEQUENCE:3
DTSTAMP:20260425T231752Z
URL:http://dev.chamber.scwcc.com/events/details/salad-session-stop-resisting-your-success-05-22-2012-480
END:VEVENT

END:VCALENDAR
