BEGIN:VCALENDAR
VERSION:2.0
PRODID:-//ChamberMaster//Event Calendar 2.0//EN
METHOD:PUBLISH
X-PUBLISHED-TTL:P3D
REFRESH-INTERVAL:P3D
CALSCALE:GREGORIAN
BEGIN:VEVENT
DTSTART;VALUE=DATE:20120310
DTEND;VALUE=DATE:20120311
TRANSP:TRANSPARENT
X-MICROSOFT-CDO-ALLDAYEVENT:TRUE
SUMMARY:Savvy Sisters
DESCRIPTION:A one-day retreat for powerful women who want to amp up their influence and impact.\n\n	This intense workshop for women was developed by Linda Sommer to help women find that place where their heart and their head are fully engaged in the work at hand.\n\n	\n\n	Savvy Sisters will help you find your voice and your place in your chosen career. You will be encouraged and equipped to live life "full-out" and to be powerful\, potent and appreciated at home and at work.\n\n	\n\n	We'll use the arts\, entertainment and success savvy business principles to supercharge your influence and impact in all areas of your life.\n\n	\n\n	There'll be lunch\, munchies and martinis\, too!\n\n	Register today
X-ALT-DESC;FMTTYPE=text/html:<h5>\n	A one-day retreat for powerful women who want to amp up their influence and impact.</h5>\n<div>\n	This intense workshop for women was developed by Linda Sommer to help women find that place where their heart and their head are fully engaged in the work at hand.<br />\n	<br />\n	Savvy Sisters will help you find your voice and your place in your chosen career. You will be encouraged and equipped to live life &ldquo\;full-out&rdquo\; and to be powerful\, potent and appreciated at home and at work.<br />\n	<br />\n	We&rsquo\;ll use the arts\, entertainment and success savvy business principles to supercharge your influence and impact in all areas of your life.<br />\n	<br />\n	There&rsquo\;ll be lunch\, munchies and martinis\, too!</div>\n<div>\n	<a href="http://events.constantcontact.com/register/event?llr=g7bmwrdab&amp\;oeidk=a07e5jluzbg1e2042c6">Register today &gt\;&gt\;</a><br />\n	&nbsp\;</div>\n
LOCATION:1645 Pinon Glen Colorado Springs\, CO80919
UID:e.1128.313
SEQUENCE:3
DTSTAMP:20260425T200715Z
URL:http://dev.chamber.scwcc.com/events/details/savvy-sisters-03-10-2012-313
END:VEVENT

END:VCALENDAR
