BEGIN:VCALENDAR
VERSION:2.0
PRODID:-//ChamberMaster//Event Calendar 2.0//EN
METHOD:PUBLISH
X-PUBLISHED-TTL:P3D
REFRESH-INTERVAL:P3D
CALSCALE:GREGORIAN
BEGIN:VEVENT
DTSTART:20120623T150000Z
DTEND:20120623T180000Z
X-MICROSOFT-CDO-ALLDAYEVENT:FALSE
SUMMARY:Shred Day at Air Academy Federal Credit Union
DESCRIPTION:Get rid of all that clutter! AAFCU Members bring your documents to shred for free! Non-members may participate for a donation of $10 to the AAFCU Foundation. Bring up to five bankers boxes or three trash bags full of documents to shred!\n\n	 \n\n	Location:  AAFCU Cordera Branch\n\n	                   9810 N. Union Blvd.\n\n	                  Colorado Springs\, CO 80924  \n\n	 \n\n	The mark CORDERA is a federally registered mark of High Valley Land Company\, Inc. used under license.
X-ALT-DESC;FMTTYPE=text/html:<div>\n	Get rid of all that clutter!&nbsp\;AAFCU Members bring your documents to shred for free! Non-members may participate for a donation of $10 to the AAFCU Foundation.&nbsp\;Bring up to five bankers boxes or three trash bags full of documents to shred!<br />\n	&nbsp\;</div>\n<div>\n	Location:&nbsp\;&nbsp\;AAFCU Cordera Branch</div>\n<div>\n	&nbsp\; &nbsp\; &nbsp\; &nbsp\; &nbsp\; &nbsp\; &nbsp\; &nbsp\;&nbsp\;&nbsp\; &nbsp\;9810 N. Union Blvd.</div>\n<div>\n	&nbsp\; &nbsp\; &nbsp\; &nbsp\; &nbsp\; &nbsp\; &nbsp\; &nbsp\;&nbsp\;&nbsp\; Colorado Springs\, CO 80924&nbsp\;&nbsp\;<br />\n	&nbsp\;</div>\n<div>\n	<span style="font-size: 9px"><em><span class="smalltype">The mark CORDERA is a federally registered mark of High Valley Land Company\, Inc. used under license.</span></em></span><br />\n	&nbsp\;</div>\n
LOCATION:AAFCU Cordera Branch 9810 N. Union Blvd. Colorado Springs\, CO 80924
UID:e.1128.489
SEQUENCE:3
DTSTAMP:20260426T004002Z
URL:http://dev.chamber.scwcc.com/events/details/shred-day-at-air-academy-federal-credit-union-06-23-2012-489
END:VEVENT

END:VCALENDAR
