BEGIN:VCALENDAR
VERSION:2.0
PRODID:-//ChamberMaster//Event Calendar 2.0//EN
METHOD:PUBLISH
X-PUBLISHED-TTL:P3D
REFRESH-INTERVAL:P3D
CALSCALE:GREGORIAN
BEGIN:VEVENT
DTSTART:20120125T170000Z
DTEND:20120125T190000Z
X-MICROSOFT-CDO-ALLDAYEVENT:FALSE
SUMMARY:Vision Board "Playshop"
DESCRIPTION:Vision Board Playshops\nWould you like to have a clear vision of where you're going?\n\n\n\nVision Boards are a powerful visual representation of what you want to have\, to be or to do in your life. Using simple techniques and everyday supplies\, capture your dreams\, goals and inspirations on a Vision Board created specifically for you\, by you. (Yes\, this is all about YOU!)\n\n\n\nJoin me to clarify and capture your vision in this relaxed\, yet focused\, workshop.\n\n\n\nThere are only 10 seats in each Playshop\, so choose your date and register now at www.BeyondTheBudget.com!\n\n\n\nWednesday\, Jan 25 at 10:00-12:00 at Webster University\n\nFriday\, Jan 27 at 2:00-4:00 at the Center for Powerful Living\n\nSaturday\, Jan 28 at 10:00-12:00 at the Center for Powerful Living
X-ALT-DESC;FMTTYPE=text/html:<h3 style="color:blue\;">\n	<span style="font-size:14px\;">Vision Board Playshops</span></h3>\nWould you like to have a clear vision of where you&#39\;re going?<br />\n<br />\nVision Boards are a powerful visual representation of what you want to have\, to be or to do in your life. Using simple techniques and everyday supplies\, capture your dreams\, goals and inspirations on a Vision Board created specifically for you\, by you. (Yes\, this is all about YOU!)<br />\n<br />\nJoin me to clarify and capture your vision in this relaxed\, yet focused\, workshop.<br />\n<br />\nThere are only 10 seats in each Playshop\, so choose your date and register now at www.BeyondTheBudget.com!<br />\n<br />\n<strong>Wednesday\, Jan 25</strong> at 10:00-12:00 at Webster University<br />\n<strong>Friday\, Jan 27</strong> at 2:00-4:00 at the Center for Powerful Living<br />\n<strong>Saturday\, Jan 28</strong> at 10:00-12:00 at the Center for Powerful Living<br />\n
LOCATION:Jan 25 at Webster University Jan 27 or Jan 28 at the Center for Powerful Living
UID:e.1128.310
SEQUENCE:3
DTSTAMP:20260425T170551Z
URL:http://dev.chamber.scwcc.com/events/details/vision-board-playshop-01-25-2012-310
END:VEVENT

END:VCALENDAR
