BEGIN:VCALENDAR
VERSION:2.0
PRODID:-//ChamberMaster//Event Calendar 2.0//EN
METHOD:PUBLISH
X-PUBLISHED-TTL:P3D
REFRESH-INTERVAL:P3D
CALSCALE:GREGORIAN
BEGIN:VEVENT
DTSTART:20120421T150000Z
DTEND:20120421T180000Z
X-MICROSOFT-CDO-ALLDAYEVENT:FALSE
SUMMARY:WOMEN $ MONEY - "What Your Mother Never Told You About Personal Finances"
DESCRIPTION:LADIES ONLY\n\n	\n\n	You and a guest are cordially invited to attend\n\n	\n\n	The Second Annual\n\n	\n\n	WOMEN $ MONEY\n\n	"What Your Mother Never Told You About Personal Finances"\n\n	\n\n	Presented by\n\n	Chance & Diane Carson\n\n	\n\n	Don't let the man be 'the plan'!\n\n	\n\n	Protect yourself and your family by learning the confidence\,\n\n	skills and resources to prepare yourself for the "what ifs" in life.\n\n	\n\n	The infomation is current\, broad-based and presented\n\n	in an easy to understand\, non-threatening manner.\n\n	\n\n	The Carson team presents real life and personal 'stories' that really hit home.\n\n	\n\n	A 'must attend' for every woman regardless of age\, marital or financial status.\n\n	\n\n	Please join us. You'll be glad you did!\n\n	\n\n	Cheyenne Mountain Resort\n\n	3225 Broadmoor Valley Road\n\n	Colorado Springs\, CO 80906\n\n	\n\n	Light Refreshments\n\n	\n\n	Attend ONE of 3 Dates:\n\n	Saturday\, April 21\, 2012     9:00 - 12:00 Noon\n\n	Tuesday\, April 24\, 2012            1:00 - 4:00 pm\n\n	Thursday\, April 26\, 2012    9:00 - 12:00 Noon\n\n	\n\n	\n\n	RESERVATIONS REQUIRED\n\n	Please call (719) 268-0800 to RSVP or\n\n	E-mail: Diane.Carson@intervestintl.com\n\n	\n\n	Educational Program\n\n	No Cost\, Obligation or Sales\n\n	\n\n	C. CHANCE CARSON & ASSOCIATES\, LLC.\n\n	www.chancecarson.com\n\n	\n\n	\n\n	Advisory services offered through Intervest International\, Inc.\n\n	Securities offered through Intervest International Equities Corp.\n\n	1980 Dominion Way\, Suite 202\, Colorado Springs\, CO 80918  Toll Free 877-260-0800\n\n	Members FINRA / SIPC
X-ALT-DESC;FMTTYPE=text/html:<p style="text-align: center">\n	<br />\n	LADIES ONLY<br />\n	<br />\n	You and a guest are cordially invited to attend<br />\n	<br />\n	The Second Annual<br />\n	<br />\n	<span style="font-size: 22px"><span style="color: #008000"><strong><span style="font-family: arial">WOMEN $ MONEY</span></strong></span></span><br />\n	<span style="font-size: 14px">&quot\;<strong>What Your Mother Never Told You About Personal Finances&quot\;</strong></span><br />\n	<br />\n	Presented by<br />\n	<span style="font-size: 14px"><strong>Chance &amp\; Diane Carson</strong></span><br />\n	<br />\n	<em><span style="color: #003399"><span style="font-family: arial">Don&#39\;t let the man be &#39\;the plan&#39\;!<br />\n	<br />\n	Protect yourself and your family by learning the confidence\,<br />\n	skills and resources to prepare yourself for the &quot\;what ifs&quot\; in life.<br />\n	<br />\n	The infomation is current\, broad-based and presented<br />\n	in an easy to understand\, non-threatening manner.<br />\n	<br />\n	The Carson team presents real life and personal &#39\;stories&#39\; that really hit home.<br />\n	<br />\n	A &#39\;must attend&#39\; for every woman regardless of age\, marital or financial status.<br />\n	<br />\n	Please join us. You&#39\;ll be glad you did!</span></span></em><br />\n	<br />\n	<strong><span style="font-size: 16px"><span style="color: #008000">Cheyenne Mountain Resort<br />\n	3225 Broadmoor Valley Road<br />\n	Colorado Springs\, CO 80906</span></span><br />\n	<br />\n	Light Refreshments<br />\n	<br />\n	<span style="color: #008000"><span style="font-size: 16px">Attend ONE of 3 Dates:</span></span></strong></p>\n<p style="text-align: center">\n	<span style="font-size: 14px"><strong>Saturday\, April 21\, 2012&nbsp\;&nbsp\;&nbsp\;&nbsp\; 9:00 - 12:00 Noon</strong></span><br />\n	<span style="font-size: 14px"><strong>Tuesday\,&nbsp\;April 24\, 2012&nbsp\;&nbsp\;&nbsp\;&nbsp\;&nbsp\;&nbsp\;&nbsp\;&nbsp\;&nbsp\;&nbsp\; &nbsp\;1:00 - 4:00 pm</strong></span><br />\n	<strong><span style="font-size: 14px">Thursday\, April 26\, 2012&nbsp\;&nbsp\;&nbsp\; 9:00 - 12:00 Noon</span><br />\n	<br />\n	<br />\n	<span style="font-size: 16px"><span style="color: #008000">RESERVATIONS REQUIRED</span></span><br />\n	<span style="font-size: 14px">Please call (719) 268-0800 to RSVP or<br />\n	E-mail: <span style="color: #003399">Diane.Carson@intervestintl.com</span></span><br />\n	<br />\n	Educational Program<br />\n	No Cost\, Obligation or Sales<br />\n	<br />\n	C. CHANCE CARSON &amp\; ASSOCIATES\, LLC.<br />\n	<span style="color: #003399">www.chancecarson.com</span></strong><br />\n	<br />\n	<br />\n	<span style="font-size: 9px">Advisory services offered through Intervest International\, Inc.<br />\n	Securities offered through Intervest International Equities Corp.<br />\n	1980 Dominion Way\, Suite 202\, Colorado Springs\, CO 80918&nbsp\; Toll Free 877-260-0800<br />\n	Members FINRA / SIPC</span></p>\n<p style="text-align: center">\n	<br />\n	&nbsp\;</p>\n
LOCATION:Cheyenne Mountain Resort - Remington Room
UID:e.1128.442
SEQUENCE:3
DTSTAMP:20260425T214519Z
URL:http://dev.chamber.scwcc.com/events/details/women-money-what-your-mother-never-told-you-about-personal-finances-04-21-2012-442
END:VEVENT

END:VCALENDAR
