BEGIN:VCALENDAR
VERSION:2.0
PRODID:-//ChamberMaster//Event Calendar 2.0//EN
METHOD:PUBLISH
X-PUBLISHED-TTL:P3D
REFRESH-INTERVAL:P3D
CALSCALE:GREGORIAN
BEGIN:VEVENT
DTSTART:20120424T190000Z
DTEND:20120424T220000Z
X-MICROSOFT-CDO-ALLDAYEVENT:FALSE
SUMMARY:WOMEN $ MONEY - "What Your Mother Never Told You About Personal Finances"
DESCRIPTION:LADIES ONLY\n\n	\n\n	You and a guest are cordially invited to attend\n\n	The Second Annual\n\n	\n\n	WOMEN $ MONEY\n\n	"What Your Mother Never Told You\n\n	About Personal Finances"\n\n	\n\n	Presented by\n\n	Chance & Diane Carson\n\n	\n\n	Don't let the man be 'the plan!\n\n	\n\n	Protect yourself and your family by learning the confidence\,\n\n	skills and resources to prepare yourself for the "what ifs" in life.\n\n	\n\n	The infomation is current\, broad-based and presented\n\n	in an easy to understand\, non-threatening manner.\n\n	\n\n	The Carson team presents real life and personal 'stories' that really hit home.\n\n	\n\n	A 'must attend' for every woman regardless of age\, marital or financial status.\n\n	\n\n	Please join us. You'll be glad you did!\n\n	\n\n	Cheyenne Mountain Resort\n\n	3225 Broadmoor Valley Road\n\n	Colorado Springs\, CO 80906\n\n	\n\n	Light Refreshments\n\n	\n\n	Attend ONE of 3 Dates:\n\n	\n\n	Saturday\, April 21\, 2012 9:00 - 12:00 Noon\n\n	Tuesday\, April 24\, 2012 1:00 - 4:00 pm\n\n	Thursday\, April 26\, 2012 9:00 - 12:00 Noon\n\n	\n\n	\n\n	RESERVATIONS REQUIRED\n\n	Please call (719) 268-0800 to RSVP or\n\n	E-mail: Diane.Carson@intervestintl.com\n\n	\n\n	Educational Program\n\n	No Cost\, Obligation or Sales\n\n	\n\n	C. CHANCE CARSON & ASSOCIATES\, LLC.\n\n	www.chancecarson.com\n\n	\n\n	\n\n	\n\n	Advisory services offered through Intervest International\, Inc.\n\n	Securities offered through Intervest International Equities Corp.\n\n	1980 Dominion Way\, Suite 202\, Colorado Springs\, CO 80918 Toll Free 877-260-0800\n\n	Members FINRA / SIPC
X-ALT-DESC;FMTTYPE=text/html:<p style="text-align: center">\n	<span style="font-size: 14px"><strong>LADIES ONLY</strong></span></p>\n<p style="text-align: center">\n	<br />\n	<span style="font-family: tahoma"><strong><em>You and a guest are cordially invited to attend</em></strong></span></p>\n<p style="text-align: center">\n	<strong>The Second Annual</strong><br />\n	<br />\n	<span style="font-size: 24px"><span style="color: #008000"><span style="font-family: tahoma"><strong>WOMEN $ MONEY</strong></span></span></span><br />\n	<span style="font-size: 20px"><strong>&quot\;What Your Mother Never Told You<br />\n	About Personal Finances&quot\;</strong></span><br />\n	<br />\n	<em>Presented by</em><br />\n	<strong>Chance &amp\; Diane Carson<br />\n	<br />\n	<span style="color: #008000"><span style="font-family: tahoma">Don&#39\;t let the man be &#39\;the plan!<br />\n	<br />\n	Protect yourself and your family by learning the confidence\,<br />\n	skills and resources to prepare yourself for the &quot\;what ifs&quot\; in life.<br />\n	<br />\n	The infomation is current\, broad-based and presented<br />\n	in an easy to understand\, non-threatening manner.<br />\n	<br />\n	The Carson team presents real life and personal &#39\;stories&#39\; that really hit home.<br />\n	<br />\n	A &#39\;must attend&#39\; for every woman regardless of age\, marital or financial status.<br />\n	<br />\n	Please join us. You&#39\;ll be glad you did!</span></span><br />\n	<br />\n	<em><span style="font-size: 16px">Cheyenne Mountain Resort</span><br />\n	3225 Broadmoor Valley Road<br />\n	Colorado Springs\, CO 80906</em></strong><br />\n	<br />\n	Light Refreshments<br />\n	<br />\n	<span style="font-size: 14px"><strong><span style="color: #008000">Attend ONE of 3 Dates:</span></strong></span><br />\n	<br />\n	<strong>Saturday\, April 21\, 2012 9:00 - 12:00 Noon<br />\n	Tuesday\, April 24\, 2012 1:00 - 4:00 pm<br />\n	Thursday\, April 26\, 2012 9:00 - 12:00 Noon<br />\n	<br />\n	<br />\n	<span style="font-size: 16px"><span style="color: #008000"><em>RESERVATIONS REQUIRED</em></span></span><br />\n	Please call (719) 268-0800 to RSVP or<br />\n	E-mail: Diane.Carson@intervestintl.com<br />\n	<br />\n	Educational Program<br />\n	No Cost\, Obligation or Sales<br />\n	<br />\n	C. CHANCE CARSON &amp\; ASSOCIATES\, LLC.</strong><br />\n	<a href="http://www.chancecarson.com"><span style="color: #0000ff">www.chancecarson.com</span></a><br />\n	<br />\n	<br />\n	<br />\n	<span style="font-size: 10px">Advisory services offered through Intervest International\, Inc.<br />\n	Securities offered through Intervest International Equities Corp.<br />\n	1980 Dominion Way\, Suite 202\, Colorado Springs\, CO 80918 Toll Free 877-260-0800<br />\n	Members FINRA / SIPC</span><br />\n	<br />\n	<br />\n	<br />\n	<br />\n	&nbsp\;</p>\n
LOCATION:Cheyenne Mountain Resort - Remington Room
UID:e.1128.444
SEQUENCE:3
DTSTAMP:20260425T214520Z
URL:http://dev.chamber.scwcc.com/events/details/women-money-what-your-mother-never-told-you-about-personal-finances-04-24-2012-444
END:VEVENT

END:VCALENDAR
