BEGIN:VCALENDAR
VERSION:2.0
PRODID:-//ChamberMaster//Event Calendar 2.0//EN
METHOD:PUBLISH
X-PUBLISHED-TTL:P3D
REFRESH-INTERVAL:P3D
CALSCALE:GREGORIAN
BEGIN:VEVENT
DTSTART:20120311T010000Z
DTEND:20120311T040000Z
X-MICROSOFT-CDO-ALLDAYEVENT:FALSE
SUMMARY:Women's Resource Agency -- Fashion to the Rescue
DESCRIPTION:Come and join us for the Women's Resource Agency's 40th Anniversary celebration at the 2012 Fashio to the Rescue event! The event will be held on Sat\, MAR 10th at the Antlers Hilton from 6-9pm. Dress is semi-formal and tickets are $75 per person. We will have a hosted bar from 6-7pm\, fantastic raffle prizes and the company of some of the City's finest firefighters who are participating in our fashion show! For more information go to our News and Events page at www.wrainc.org. Tickets may also be purchased via the  website or by calling WRA at 471-3170.
X-ALT-DESC;FMTTYPE=text/html:Come and join us for the Women&#39\;s Resource Agency&#39\;s 40th Anniversary celebration at the 2012 Fashio to the Rescue event! The event will be held on Sat\, MAR 10th at the Antlers Hilton from 6-9pm. Dress is semi-formal and tickets are $75 per person. We will have a hosted bar from 6-7pm\, fantastic raffle prizes and the company of some of the City&#39\;s finest firefighters who are participating in our fashion show! For more information go to our News and Events page at <a href="http://www.wrainc.org">www.wrainc.org</a>. Tickets may also be purchased via the&nbsp\; website or by calling WRA at 471-3170.
LOCATION:Antlers Hilton
UID:e.1128.441
SEQUENCE:3
DTSTAMP:20260425T201351Z
URL:http://dev.chamber.scwcc.com/events/details/women-s-resource-agency-fashion-to-the-rescue-03-10-2012-441
END:VEVENT

END:VCALENDAR
