BEGIN:VCALENDAR
VERSION:2.0
PRODID:-//ChamberMaster//Event Calendar 2.0//EN
METHOD:PUBLISH
X-PUBLISHED-TTL:P3D
REFRESH-INTERVAL:P3D
CALSCALE:GREGORIAN
BEGIN:VEVENT
DTSTART:20120929T163000Z
DTEND:20120929T180000Z
X-MICROSOFT-CDO-ALLDAYEVENT:FALSE
SUMMARY:Curious Palate Tasting Class: A Tour of African Coffee
DESCRIPTION:Coffee Myth:\n\nThe best coffees in the world come from Italy.\n\n\n\nMyth Busted: Actually\, unless someone is growing coffee as an indoor plant\, no coffee is grown in Italy at all. Italy's coffee fame rests on its coffee companies abilities as roasters and blenders for espresso. Most of the green coffee going in to Italy is "good average" at best rather than specialty grade\, and most of the roasted coffee exported is designed to give a consistent "good average" espresso.\n\n\n\nFor this special session of the Curious Palate\, we are shelving adult beverages and focusing our attention on exploring the remarkable differences and flavor nuances among coffee varieties that come to us from five different African countries including Congo\, Tanzania\, Ethiopia\, Rwanda and Kenya. We are beyond pleased to be presenting this tasting with Colorado Coffee Merchants.\n\n\n\nThis tasting is $12.00 and includes coffee tastings and fun\, light-hearted education. Space is limited and reservations are required!\n\n\n\nSaturday\, September 29\, 2012\n\n10:30am to 12:00pm\n\n$12.00 per person
X-ALT-DESC;FMTTYPE=text/html:Coffee Myth:<br />\nThe best coffees in the world come from Italy.<br />\n<br />\nMyth Busted: Actually\, unless someone is growing coffee as an indoor plant\, no coffee is grown in Italy at all. Italy&#39\;s coffee fame rests on its coffee companies abilities as roasters and blenders for espresso. Most of the green coffee going in to Italy is &quot\;good average&quot\; at best rather than specialty grade\, and most of the roasted coffee exported is designed to give a consistent &quot\;good average&quot\; espresso.<br />\n<br />\nFor this special session of the Curious Palate\, we are shelving adult beverages and focusing our attention on exploring the remarkable differences and flavor nuances among coffee varieties that come to us from five different African countries including Congo\, Tanzania\, Ethiopia\, Rwanda and Kenya. We are beyond pleased to be presenting this tasting with Colorado Coffee Merchants.<br />\n<br />\nThis tasting is $12.00 and includes coffee tastings and fun\, light-hearted education. Space is limited and reservations are required!<br />\n<br />\nSaturday\, September 29\, 2012<br />\n10:30am to 12:00pm<br />\n$12.00 per person&nbsp\;&nbsp\;
LOCATION:Soiree
UID:e.1128.525
SEQUENCE:3
DTSTAMP:20260419T124222Z
URL:https://dev.chamber.scwcc.com/events/details/curious-palate-tasting-class-a-tour-of-african-coffee-09-29-2012-525
END:VEVENT

END:VCALENDAR
